BEGIN:VCALENDAR
VERSION:2.0
PRODID:-//Greenwich House - ECPv6.15.14//NONSGML v1.0//EN
CALSCALE:GREGORIAN
METHOD:PUBLISH
X-WR-CALNAME:Greenwich House
X-ORIGINAL-URL:https://greenwichhouse.org
X-WR-CALDESC:Events for Greenwich House
REFRESH-INTERVAL;VALUE=DURATION:PT1H
X-Robots-Tag:noindex
X-PUBLISHED-TTL:PT1H
BEGIN:VTIMEZONE
TZID:America/New_York
BEGIN:DAYLIGHT
TZOFFSETFROM:-0500
TZOFFSETTO:-0400
TZNAME:EDT
DTSTART:20220313T070000
END:DAYLIGHT
BEGIN:STANDARD
TZOFFSETFROM:-0400
TZOFFSETTO:-0500
TZNAME:EST
DTSTART:20221106T060000
END:STANDARD
BEGIN:DAYLIGHT
TZOFFSETFROM:-0500
TZOFFSETTO:-0400
TZNAME:EDT
DTSTART:20230312T070000
END:DAYLIGHT
BEGIN:STANDARD
TZOFFSETFROM:-0400
TZOFFSETTO:-0500
TZNAME:EST
DTSTART:20231105T060000
END:STANDARD
BEGIN:DAYLIGHT
TZOFFSETFROM:-0500
TZOFFSETTO:-0400
TZNAME:EDT
DTSTART:20240310T070000
END:DAYLIGHT
BEGIN:STANDARD
TZOFFSETFROM:-0400
TZOFFSETTO:-0500
TZNAME:EST
DTSTART:20241103T060000
END:STANDARD
END:VTIMEZONE
BEGIN:VEVENT
DTSTART;VALUE=DATE:20230113
DTEND;VALUE=DATE:20230225
DTSTAMP:20260423T084431
CREATED:20220106T205940Z
LAST-MODIFIED:20230113T152037Z
UID:15395-1673568000-1677283199@greenwichhouse.org
SUMMARY:A Figure Enters
DESCRIPTION:Photo: Alan Wiener\, courtesy Greenwich House Pottery 2023. \nA Figure Enters\nPaul Narkiewicz\ncurated by Megan Mi-Ai Lee\nIn-Person Reception | Friday\, January 20\, 2023 | 5:00 – 7:00 p.m.\nJanuary 13 – February 24\, 2023 \nThe Jane Hartsook Gallery is pleased to present a solo exhibition of work by Paul Narkiewicz\, curated by Megan Mi-Ai Lee. In the past ten years\, Narkiewicz has created over 600 iterations of an abstract human figure in clay. Inflected by his background in painting and printmaking\, each figure is composed of individual slabs of clay that are textured\, pigmented\, cut\, and assembled into distinct figures using nichrome wire. This exhibition brings together a selection of these sculptures\, representing an overview of his production and stylistic evolution over the past decade\, and presents them with a group of his watercolors capturing the Italian countryside from the 1970s. \nPaul Narkiewicz is a New York-based artist. Narkiewicz earned his BFA from Philadelphia College of Art\, and has been working in ceramics at Greenwich House Pottery since 2010. Exhibitions of his work include Laurence Miller Gallery (New York\, NY; 2015\, 2016)\, Socrates Sculpture Park (Long Island City\, NY; 1987)\, and Kornblee Gallery (New York\, NY; 1981). His work is held in numerous collections\, including the Brooklyn Museum\, the Princeton University Art Museum\, the RISD Museum\, and the University of the Arts (formerly Philadelphia College of Art). A master printmaker\, Narkiewicz collaborated with many artists on their lithograph and etching editions\, including Romare Bearden\, Alex Katz and Ellsworth Kelly. \nMegan Mi-Ai Lee is an artist based in Queens\, New York. She earned her BFA from the Cooper Union School of Art in 2018. Lee has held residencies at Ox-Bow School of Art\, Storm King Art Center\, and Smack Mellon\, and was the 2018 Curatorial Fellow at Socrates Sculpture Park. Recent exhibitions of her work include Godwin-Ternbach Museum (Flushing\, NY; 2022)\, Art Lot (Brooklyn\, NY; 2022)\, and Park View/Paul Soto (Los Angeles\, CA; 2020). Lee is currently the Education Manager at Greenwich House Pottery. \n  \nImages: Alan Wiener\, courtesy Greenwich House Pottery 2023.
URL:https://greenwichhouse.org/event/paul-narkiewicz/
LOCATION:Jane Hartsook Gallery\, 16 Jones Street\, New York\, NY\, 10014\, United States
CATEGORIES:Exhibition,Pottery
ATTACH;FMTTYPE=image/jpeg:https://greenwichhouse.org/wp-content/uploads/2022/01/GHP_Paul-Narkiewicz_Lindsey-e1673457978779.jpg
END:VEVENT
BEGIN:VEVENT
DTSTART;TZID=America/New_York:20230221T083000
DTEND;TZID=America/New_York:20230221T163000
DTSTAMP:20260423T084431
CREATED:20230126T210047Z
LAST-MODIFIED:20230126T212450Z
UID:26413-1676968200-1676997000@greenwichhouse.org
SUMMARY:YCC Midwinter Recess Holiday Camp
DESCRIPTION: Midwinter Recess\nFebruary 21nd-24th \nGHYCC Camps are designed with the spirit of learning and teamwork in mind. All camp programs combine a STEAM curriculum along with team games and sports. Throughout the day students participate in a variety of activities- such as painting and drawing\, science\, sports\, sewing\, and outdoor play. \nDays run from 8:30 a.m. to 4:30 p.m. with an option for an extended day from 4:30 p.m. to 5:30 p.m \nYou can sign up for the week or by the day. We’re flexible. \n\n\n\nfull week (Tues. -Fri.)\nTuesday\nWednesday\nThursday\nFriday
URL:https://greenwichhouse.org/event/ycc-midwinter-recess-holiday-camp/
LOCATION:NY
CATEGORIES:Youth Community Center
ATTACH;FMTTYPE=image/jpeg:https://greenwichhouse.org/wp-content/uploads/2023/01/camp4-scaled.jpg
END:VEVENT
BEGIN:VEVENT
DTSTART;TZID=America/New_York:20230221T130000
DTEND;TZID=America/New_York:20230221T140000
DTSTAMP:20260423T084431
CREATED:20230202T213723Z
LAST-MODIFIED:20230803T212524Z
UID:27950-1676984400-1676988000@greenwichhouse.org
SUMMARY:Saving Money Discussion with Financial Wellness Educator Kay
DESCRIPTION:Discover tips and tricks to saving money by lowering monthly bills including cable\, phone\, internet\, food and or membership programs.
URL:https://greenwichhouse.org/event/saving-money-discussion-with-financial-wellness-educator-kay/
LOCATION:Center on the Square\, 20 Washington Square N.\, New York\, NY\, 10011\, United States
CATEGORIES:Older Adult Network
END:VEVENT
BEGIN:VEVENT
DTSTART;TZID=America/New_York:20230221T140000
DTEND;TZID=America/New_York:20230221T163000
DTSTAMP:20260423T084431
CREATED:20230206T205328Z
LAST-MODIFIED:20230206T205328Z
UID:30649-1676988000-1676997000@greenwichhouse.org
SUMMARY:How to Sell Online 101 Part 3 - With Lavina Nagpal
DESCRIPTION:How to Sell Online 101 Part 3 \n\nReal-time customizing your won store on Etsy\nLive activities\nFeedback on your content and store\nStrategies to improve and launch\nFAQs
URL:https://greenwichhouse.org/event/how-to-sell-online-101-part-3-with-lavina-nagpal/
LOCATION:Lifelong Skills & Opportunity Center\, 27 Barrow St\, 4th Floor\, New York\, NY\, 10014\, United States
CATEGORIES:Lifelong Skills & Opportunity Center
END:VEVENT
BEGIN:VEVENT
DTSTART;TZID=America/New_York:20230222T083000
DTEND;TZID=America/New_York:20230222T163000
DTSTAMP:20260423T084431
CREATED:20230126T210047Z
LAST-MODIFIED:20230126T212732Z
UID:26429-1677054600-1677083400@greenwichhouse.org
SUMMARY:YCC Midwinter Recess Holiday Camp
DESCRIPTION: Midwinter Recess\nFebruary 21nd-24th \nGHYCC Camps are designed with the spirit of learning and teamwork in mind. All camp programs combine a STEAM curriculum along with team games and sports. Throughout the day students participate in a variety of activities- such as painting and drawing\, science\, sports\, sewing\, and outdoor play. \nDays run from 8:30 a.m. to 4:30 p.m. with an option for an extended day from 4:30 p.m. to 5:30 p.m \nYou can sign up for the week or by the day. We’re flexible. \n\n\n\nfull week (Tues. -Fri.)\nTuesday\nWednesday\nThursday\nFriday
URL:https://greenwichhouse.org/event/ycc-midwinter-recess-holiday-camp-2023-02-22/
LOCATION:NY
CATEGORIES:Youth Community Center
ATTACH;FMTTYPE=image/jpeg:https://greenwichhouse.org/wp-content/uploads/2023/01/camp4-scaled.jpg
END:VEVENT
BEGIN:VEVENT
DTSTART;TZID=America/New_York:20230222T140000
DTEND;TZID=America/New_York:20230222T163000
DTSTAMP:20260423T084431
CREATED:20230206T205721Z
LAST-MODIFIED:20230310T175339Z
UID:30651-1677074400-1677083400@greenwichhouse.org
SUMMARY:Intro to Social Media Marketing- With Lavina Nagpal
DESCRIPTION:Intro to Social Media Marketing \n\nSocial Media platforms\nContent creation and engagement\nNurturing community\nAdvertising & Social IMC\nLive activities & FAQs\n\nView the calendar for all dates and times this month.
URL:https://greenwichhouse.org/event/intro-to-social-media-marketing-with-lavina-nagpal/2023-02-22/
LOCATION:Lifelong Skills & Opportunity Center\, 27 Barrow St\, 4th Floor\, New York\, NY\, 10014\, United States
CATEGORIES:Lifelong Skills & Opportunity Center
ATTACH;FMTTYPE=image/jpeg:https://greenwichhouse.org/wp-content/uploads/2023/03/DSC_0143-scaled.jpg
END:VEVENT
BEGIN:VEVENT
DTSTART;TZID=America/New_York:20230223T083000
DTEND;TZID=America/New_York:20230223T163000
DTSTAMP:20260423T084431
CREATED:20230126T210047Z
LAST-MODIFIED:20230126T212854Z
UID:26430-1677141000-1677169800@greenwichhouse.org
SUMMARY:YCC Midwinter Recess Holiday Camp
DESCRIPTION: Midwinter Recess\nFebruary 21nd-24th \nGHYCC Camps are designed with the spirit of learning and teamwork in mind. All camp programs combine a STEAM curriculum along with team games and sports. Throughout the day students participate in a variety of activities- such as painting and drawing\, science\, sports\, sewing\, and outdoor play. \nDays run from 8:30 a.m. to 4:30 p.m. with an option for an extended day from 4:30 p.m. to 5:30 p.m \nYou can sign up for the week or by the day. We’re flexible. \n\n\n\nfull week (Tues. -Fri.)\nTuesday\nWednesday\nThursday\nFriday
URL:https://greenwichhouse.org/event/ycc-midwinter-recess-holiday-camp-2023-02-23/
LOCATION:NY
CATEGORIES:Youth Community Center
ATTACH;FMTTYPE=image/jpeg:https://greenwichhouse.org/wp-content/uploads/2023/01/camp4-scaled.jpg
END:VEVENT
BEGIN:VEVENT
DTSTART;TZID=America/New_York:20230223T120000
DTEND;TZID=America/New_York:20230223T130000
DTSTAMP:20260423T084431
CREATED:20230206T173202Z
LAST-MODIFIED:20230206T173202Z
UID:29429-1677153600-1677157200@greenwichhouse.org
SUMMARY:Money Planning with Financial Educator Tom
DESCRIPTION:Create a spending plan that includes both niceties as well as necessities with a month-to-month cash flow plan. \n 
URL:https://greenwichhouse.org/event/money-planning-with-financial-educator-tom/
LOCATION:Greenwich House Westbeth Older Adult Center\, 155 Bank Street\, New York\, 10014\, United States
CATEGORIES:Older Adult Network
END:VEVENT
BEGIN:VEVENT
DTSTART;TZID=America/New_York:20230224T083000
DTEND;TZID=America/New_York:20230224T163000
DTSTAMP:20260423T084431
CREATED:20230126T210047Z
LAST-MODIFIED:20230127T144403Z
UID:26431-1677227400-1677256200@greenwichhouse.org
SUMMARY:YCC Midwinter Recess Holiday Camp
DESCRIPTION: Midwinter Recess\nFebruary 21nd-24th \nGHYCC Camps are designed with the spirit of learning and teamwork in mind. All camp programs combine a STEAM curriculum with team games and sports. Throughout the day students participate in a variety of activities- such as painting and drawing\, science\, sports\, sewing\, and outdoor play. \nDays run from 8:30 a.m. to 4:30 p.m. with an option for an extended day from 4:30 p.m. to 5:30 p.m \nYou can sign up for the week or by the day. We’re flexible. \n\n\n\nfull week (Tues. -Fri.)\nTuesday\nWednesday\nThursday\nFriday
URL:https://greenwichhouse.org/event/ycc-midwinter-recess-holiday-camp-2023-02-24/
LOCATION:NY
CATEGORIES:Youth Community Center
ATTACH;FMTTYPE=image/jpeg:https://greenwichhouse.org/wp-content/uploads/2023/01/camp4-scaled.jpg
END:VEVENT
BEGIN:VEVENT
DTSTART;TZID=America/New_York:20230224T133000
DTEND;TZID=America/New_York:20230224T143000
DTSTAMP:20260423T084431
CREATED:20230206T203537Z
LAST-MODIFIED:20230206T203537Z
UID:30634-1677245400-1677249000@greenwichhouse.org
SUMMARY:Restless Leg Syndrome Presentation
DESCRIPTION:With Mount Sinai
URL:https://greenwichhouse.org/event/restless-leg-syndrome-presentation/
LOCATION:Greenwich House Westbeth Older Adult Center\, 155 Bank Street\, New York\, 10014\, United States
CATEGORIES:Older Adult Network
END:VEVENT
BEGIN:VEVENT
DTSTART;TZID=America/New_York:20230224T143000
DTEND;TZID=America/New_York:20230224T160000
DTSTAMP:20260423T084431
CREATED:20230206T170442Z
LAST-MODIFIED:20230206T170442Z
UID:29329-1677249000-1677254400@greenwichhouse.org
SUMMARY:Dance Party!
DESCRIPTION:Come dance and let loose; dancing improves flexibility\, minimizes stress and makes you feel good! \nEvery last Friday of the month.
URL:https://greenwichhouse.org/event/dance-party-2/
LOCATION:Our Lady of Pompeii\, 25 Carmine Street\, New York\, NY\, 10014\, United States
CATEGORIES:Older Adult Network
ATTACH;FMTTYPE=image/jpeg:https://greenwichhouse.org/wp-content/uploads/2023/02/Dance-Party_OLP.jpg
END:VEVENT
END:VCALENDAR