BEGIN:VCALENDAR
VERSION:2.0
PRODID:-//Greenwich House - ECPv6.15.14//NONSGML v1.0//EN
CALSCALE:GREGORIAN
METHOD:PUBLISH
X-WR-CALNAME:Greenwich House
X-ORIGINAL-URL:https://greenwichhouse.org
X-WR-CALDESC:Events for Greenwich House
REFRESH-INTERVAL;VALUE=DURATION:PT1H
X-Robots-Tag:noindex
X-PUBLISHED-TTL:PT1H
BEGIN:VTIMEZONE
TZID:America/New_York
BEGIN:DAYLIGHT
TZOFFSETFROM:-0500
TZOFFSETTO:-0400
TZNAME:EDT
DTSTART:20230312T070000
END:DAYLIGHT
BEGIN:STANDARD
TZOFFSETFROM:-0400
TZOFFSETTO:-0500
TZNAME:EST
DTSTART:20231105T060000
END:STANDARD
BEGIN:DAYLIGHT
TZOFFSETFROM:-0500
TZOFFSETTO:-0400
TZNAME:EDT
DTSTART:20240310T070000
END:DAYLIGHT
BEGIN:STANDARD
TZOFFSETFROM:-0400
TZOFFSETTO:-0500
TZNAME:EST
DTSTART:20241103T060000
END:STANDARD
BEGIN:DAYLIGHT
TZOFFSETFROM:-0500
TZOFFSETTO:-0400
TZNAME:EDT
DTSTART:20250309T070000
END:DAYLIGHT
BEGIN:STANDARD
TZOFFSETFROM:-0400
TZOFFSETTO:-0500
TZNAME:EST
DTSTART:20251102T060000
END:STANDARD
END:VTIMEZONE
BEGIN:VEVENT
DTSTART;TZID=America/New_York:20240111T170000
DTEND;TZID=America/New_York:20240111T180000
DTSTAMP:20260424T193727
CREATED:20231222T155529Z
LAST-MODIFIED:20240214T165104Z
UID:51124-1704992400-1704996000@greenwichhouse.org
SUMMARY:Artist Talk: Jinsik Yoo
DESCRIPTION:Jinsik Yoo\nThursday\, January 11\, 2024\nArtist Talk\, 5:00 – 6:00 p.m. \nPlease join us for an in-person artist talk with Jinsik Yoo. The talk is in conjunction with his solo exhibition\, Procession\, on view in the Jane Hartsook Gallery. To read more about the exhibition\, click here. \nJinsik Yoo is a New York-based figurative ceramic sculptor and painter. Yoo earned his MFA from the New York State College of Ceramics at Alfred University and his BFA from Konkuk University in Seoul\, South Korea. Recent exhibitions include: the Cincinnati Art Academy (Ohio; 2023)\, The Clay Studio in Philadelphia (Pennsylvania; 2023)\, and the Eutectic Gallery (Portland\, OR; 2021). His work is held in a number of public collections\, including the Museum of Modern Art of Medellin\, Colombia and the Alfred Ceramic Art Museum. He is currently a resident artist at The Clay Studio in Philadelphia.
URL:https://greenwichhouse.org/event/artist-talk-jinsik-yoo/
LOCATION:Greenwich House Pottery\, 16 Jones Street\, New York\, NY\, 10014\, United States
CATEGORIES:Exhibition,Pottery,Special Event,Talk
ATTACH;FMTTYPE=image/png:https://greenwichhouse.org/wp-content/uploads/2023/12/Untitled-design-20.png
END:VEVENT
BEGIN:VEVENT
DTSTART;TZID=America/New_York:20240111T180000
DTEND;TZID=America/New_York:20240111T200000
DTSTAMP:20260424T193727
CREATED:20231222T153740Z
LAST-MODIFIED:20240102T151948Z
UID:51118-1704996000-1705003200@greenwichhouse.org
SUMMARY:Opening Reception\, Procession\, Jinsik Yoo
DESCRIPTION:JINSIK YOO\nPROCESSION\nJANUARY 12 – FEBRUARY 23\, 2024\nOPENING RECEPTION | JANUARY 11\, 2024 | 6:00 – 8:00 P.M.\n  \nJoin us for the opening reception of Jinsik Yoo’s NYC solo show debut. In his solo show debut\, Yoo uses figurative abstraction to question cultural boundaries\, examining the border between myth and reality\, the state and its people\, and the body and its past or future. Drawing from Korean myths as well as his own experiences\, Yoo asks how boundaries are drawn and what it costs to maintain them. Read more.
URL:https://greenwichhouse.org/event/opening-reception-procession-jinsik-yoo/
LOCATION:Greenwich House Pottery\, 16 Jones Street\, New York\, NY\, 10014\, United States
CATEGORIES:Pottery,Special Event,Talk
ATTACH;FMTTYPE=image/png:https://greenwichhouse.org/wp-content/uploads/2023/12/Untitled-design-20.png
END:VEVENT
BEGIN:VEVENT
DTSTART;TZID=America/New_York:20240112T090000
DTEND;TZID=America/New_York:20240223T170000
DTSTAMP:20260424T193727
CREATED:20231117T154601Z
LAST-MODIFIED:20240227T150113Z
UID:50125-1705050000-1708707600@greenwichhouse.org
SUMMARY:Procession\, Jinsik Yoo
DESCRIPTION:Jinsik Yoo\, Procession of the Roses\, stoneware\, glaze\, 2023\, 22” x 12” x 23.5”. Image: courtesy of the artist. \nJinsik Yoo\nProcession\nJanuary 12 – February 23\, 2024\nOpening Reception | January 11\, 2024 | 6:00 – 8:00 p.m.\n  \nThe Jane Hartsook Gallery is pleased to present new work by Jinsik Yoo. In his solo debut\, Yoo uses figurative abstraction to question cultural boundaries\, examining the border between myth and reality\, the state and its people\, and the body and its past or future. Drawing from Korean myths as well as his own experiences\, Yoo asks how boundaries are drawn and what it costs to maintain them. \nThe sculptures in this exhibition reimagine how we experience those boundaries internally and in our relationships with others. One figure captures the moment of transformation in a classical Korean creation myth in which a tiger and a bear beg to become human. Another represents Yoo’s experience as a riot police officer during his mandatory military service\, when he was charged to become an embodiment of state power. Still other pieces in this exhibition draw on feelings of joy and liberation Yoo experienced as a queer person moving from South Korea\, where he was living in the closet\, to the United States. Yoo uses these works to consider how border crossings—across forms\, cultural conventions\, and space—are essential to existence and to art making. \nJinsik Yoo is a New York-based figurative ceramic sculptor and painter. Yoo earned his MFA from the New York State College of Ceramics at Alfred University and his BFA from Konkuk University in Seoul\, South Korea. Recent exhibitions include: the Cincinnati Art Academy (Ohio; 2023)\, The Clay Studio in Philadelphia (Pennsylvania; 2023)\, and the Eutectic Gallery (Portland\, OR; 2021). His work is held in a number of public collections\, including the Museum of Modern Art of Medellin\, Colombia and the Alfred Ceramic Art Museum. He is currently a resident artist at The Clay Studio in Philadelphia. \nImages below: Alan Wiener\, courtesy Greenwich House Pottery 2024.
URL:https://greenwichhouse.org/event/jinsik-yoo/
LOCATION:Greenwich House Pottery\, 16 Jones Street\, New York\, NY\, 10014\, United States
CATEGORIES:Exhibition,Pottery
ATTACH;FMTTYPE=image/jpeg:https://greenwichhouse.org/wp-content/uploads/2023/11/GHP_Jinsik-Yoo_procession-of-the-roses_Crop_2023-scaled.jpg
END:VEVENT
END:VCALENDAR